BEGIN:VCALENDAR
VERSION:2.0
PRODID:-//Birchip Cropping Group - ECPv6.15.16//NONSGML v1.0//EN
CALSCALE:GREGORIAN
METHOD:PUBLISH
X-ORIGINAL-URL:https://www.bcg.org.au
X-WR-CALDESC:Events for Birchip Cropping Group
REFRESH-INTERVAL;VALUE=DURATION:PT1H
X-Robots-Tag:noindex
X-PUBLISHED-TTL:PT1H
BEGIN:VTIMEZONE
TZID:Australia/Sydney
BEGIN:STANDARD
TZOFFSETFROM:+1100
TZOFFSETTO:+1000
TZNAME:AEST
DTSTART:20230401T160000
END:STANDARD
BEGIN:DAYLIGHT
TZOFFSETFROM:+1000
TZOFFSETTO:+1100
TZNAME:AEDT
DTSTART:20230930T160000
END:DAYLIGHT
BEGIN:STANDARD
TZOFFSETFROM:+1100
TZOFFSETTO:+1000
TZNAME:AEST
DTSTART:20240406T160000
END:STANDARD
BEGIN:DAYLIGHT
TZOFFSETFROM:+1000
TZOFFSETTO:+1100
TZNAME:AEDT
DTSTART:20241005T160000
END:DAYLIGHT
BEGIN:STANDARD
TZOFFSETFROM:+1100
TZOFFSETTO:+1000
TZNAME:AEST
DTSTART:20250405T160000
END:STANDARD
BEGIN:DAYLIGHT
TZOFFSETFROM:+1000
TZOFFSETTO:+1100
TZNAME:AEDT
DTSTART:20251004T160000
END:DAYLIGHT
END:VTIMEZONE
BEGIN:VEVENT
DTSTART;TZID=Australia/Sydney:20240828T100000
DTEND;TZID=Australia/Sydney:20240828T123000
DTSTAMP:20260422T014235
CREATED:20240515T001908Z
LAST-MODIFIED:20240823T065717Z
UID:10000044-1724839200-1724848200@www.bcg.org.au
SUMMARY:North Central Crop Walk
DESCRIPTION:Location: Bendigo-Pyramid Rd\, Mitiamo (5km west of Mitiamo) \nDate: Wed 28 August\, 10am-12.30pm \nFree BBQ lunch and optional crop drive \nLearn more about: \n\nFodder rotations\nGrazing cereals\nPulse agronomy\nDisease management
URL:https://www.bcg.org.au/event/north-central-crop-walk/
LOCATION:Bendigo-Pyramid Rd\, Mitiamo\, Bendigo-Pyramid Road\, Mitiamo\, Loddon Shire\, 3573\, Australia
ATTACH;FMTTYPE=image/jpeg:https://www.bcg.org.au/wp-content/uploads/North-Central.jpg
ORGANIZER;CN="Birchip Cropping Group":MAILTO:info@bcg.org.au
GEO:-36.2111562;144.180849
X-APPLE-STRUCTURED-LOCATION;VALUE=URI;X-ADDRESS=Bendigo-Pyramid Rd Mitiamo Bendigo-Pyramid Road Mitiamo Loddon Shire 3573 Australia;X-APPLE-RADIUS=500;X-TITLE=Bendigo-Pyramid Road:geo:144.180849,-36.2111562
END:VEVENT
END:VCALENDAR