BEGIN:VCALENDAR
VERSION:2.0
PRODID:-//Birchip Cropping Group - ECPv6.15.16//NONSGML v1.0//EN
CALSCALE:GREGORIAN
METHOD:PUBLISH
X-WR-CALNAME:Birchip Cropping Group
X-ORIGINAL-URL:https://www.bcg.org.au
X-WR-CALDESC:Events for Birchip Cropping Group
REFRESH-INTERVAL;VALUE=DURATION:PT1H
X-Robots-Tag:noindex
X-PUBLISHED-TTL:PT1H
BEGIN:VTIMEZONE
TZID:Australia/Sydney
BEGIN:STANDARD
TZOFFSETFROM:+1100
TZOFFSETTO:+1000
TZNAME:AEST
DTSTART:20240406T160000
END:STANDARD
BEGIN:DAYLIGHT
TZOFFSETFROM:+1000
TZOFFSETTO:+1100
TZNAME:AEDT
DTSTART:20241005T160000
END:DAYLIGHT
BEGIN:STANDARD
TZOFFSETFROM:+1100
TZOFFSETTO:+1000
TZNAME:AEST
DTSTART:20250405T160000
END:STANDARD
BEGIN:DAYLIGHT
TZOFFSETFROM:+1000
TZOFFSETTO:+1100
TZNAME:AEDT
DTSTART:20251004T160000
END:DAYLIGHT
BEGIN:STANDARD
TZOFFSETFROM:+1100
TZOFFSETTO:+1000
TZNAME:AEST
DTSTART:20260404T160000
END:STANDARD
BEGIN:DAYLIGHT
TZOFFSETFROM:+1000
TZOFFSETTO:+1100
TZNAME:AEDT
DTSTART:20261003T160000
END:DAYLIGHT
END:VTIMEZONE
BEGIN:VEVENT
DTSTART;TZID=Australia/Sydney:20250213T090000
DTEND;TZID=Australia/Sydney:20250213T143000
DTSTAMP:20260421T180609
CREATED:20241209T030454Z
LAST-MODIFIED:20250204T214007Z
UID:10000066-1739437200-1739457000@www.bcg.org.au
SUMMARY:Seeder Setup Day - Kaniva
DESCRIPTION:Successful crop establishment is crucial to success of the crop for the season.  Join BCG in a day looking to unpack seeder performance and how to set your crop up for success. \nDyers \n123 Rowes Rd\, Kaniva \nTopics to be covered include: \n\nSeeder and air cart setup and performance\nSeed bed utilisation – fertiliser toxicity\, key considerations\nCrop establishment fundamentals\nManaging residue\, current research and making the most of opportunities\nFinancial considerations – balancing costs with outcomes\n\nBCG will be joined by industry experts to discuss how to make the most of this seeding season. \nFull program and speakers to come.
URL:https://www.bcg.org.au/event/seeder-setup-day-kaniva/
LOCATION:Dyers\, Rowes Road 123\, Kaniva\, VIC\, 3419\, Australia
CATEGORIES:Workshop
ATTACH;FMTTYPE=image/jpeg:https://www.bcg.org.au/wp-content/uploads/Seeder-setup-day-1.jpg
ORGANIZER;CN="Birchip Cropping Group":MAILTO:info@bcg.org.au
GEO:-36.3961283;141.2431994
X-APPLE-STRUCTURED-LOCATION;VALUE=URI;X-ADDRESS=Dyers Rowes Road 123 Kaniva VIC 3419 Australia;X-APPLE-RADIUS=500;X-TITLE=Rowes Road 123:geo:141.2431994,-36.3961283
END:VEVENT
END:VCALENDAR