BEGIN:VCALENDAR
VERSION:2.0
PRODID:-//Birchip Cropping Group - ECPv6.15.16//NONSGML v1.0//EN
CALSCALE:GREGORIAN
METHOD:PUBLISH
X-ORIGINAL-URL:https://www.bcg.org.au
X-WR-CALDESC:Events for Birchip Cropping Group
REFRESH-INTERVAL;VALUE=DURATION:PT1H
X-Robots-Tag:noindex
X-PUBLISHED-TTL:PT1H
BEGIN:VTIMEZONE
TZID:Australia/Sydney
BEGIN:STANDARD
TZOFFSETFROM:+1100
TZOFFSETTO:+1000
TZNAME:AEST
DTSTART:20240406T160000
END:STANDARD
BEGIN:DAYLIGHT
TZOFFSETFROM:+1000
TZOFFSETTO:+1100
TZNAME:AEDT
DTSTART:20241005T160000
END:DAYLIGHT
BEGIN:STANDARD
TZOFFSETFROM:+1100
TZOFFSETTO:+1000
TZNAME:AEST
DTSTART:20250405T160000
END:STANDARD
BEGIN:DAYLIGHT
TZOFFSETFROM:+1000
TZOFFSETTO:+1100
TZNAME:AEDT
DTSTART:20251004T160000
END:DAYLIGHT
BEGIN:STANDARD
TZOFFSETFROM:+1100
TZOFFSETTO:+1000
TZNAME:AEST
DTSTART:20260404T160000
END:STANDARD
BEGIN:DAYLIGHT
TZOFFSETFROM:+1000
TZOFFSETTO:+1100
TZNAME:AEDT
DTSTART:20261003T160000
END:DAYLIGHT
END:VTIMEZONE
BEGIN:VEVENT
DTSTART;TZID=Australia/Sydney:20250312T090000
DTEND;TZID=Australia/Sydney:20250312T140000
DTSTAMP:20260421T162729
CREATED:20250206T225059Z
LAST-MODIFIED:20250310T042639Z
UID:10000069-1741770000-1741788000@www.bcg.org.au
SUMMARY:Farm Succession Workshop - GRDC RiskWi$e Roadshow
DESCRIPTION:Farm succession can be complex\, emotional and sometimes uncertain. To support farming families in navigating this process\, BCG is hosting a Succession Planning Workshop as part of GRDC’s RiskWi$e initiative. \n📅 Date: Wednesday\, March 12🕘 Time: 9:00 AM – 2:30 PM📍 Location: Birchip Community Leisure Centre \nThis workshop offers practical discussions and expert insights to help families ensure a smooth and successful transition between generations. \nWhat to Expect\n\nGuidance from Experts: Led by James Hamilton (Cultivate Advisory)\, the workshop will help participants tackle succession challenges while balancing business viability and family harmony.\nFinancial & Legal Insights:\n\nJack Langley (Farrell Goode Solicitors): Understanding capital gains tax and small business exemptions in succession planning.\nTim Findlay (Cato Advisory): Key characteristics of scalable farm businesses and the impact of rising land prices on succession.\n\n\nManaging Family & Emotions:\n\nNeville Brady (Brows Up Consulting): Strategies for separating family relationships from business decisions.\n\n\n\nWho Should Attend?\nFarming families at any stage of the succession process—whether actively transitioning\, planning for the future\, or seeking expert guidance. \nWhy Attend?\n✔ Gain practical insights and expert advice✔ Learn strategies to navigate financial\, legal\, and emotional challenges✔ Walk away with actionable steps for your succession plan \n📝 Registration essential – register below now to secure your spot and start planning for a successful future! \n \n\nRiskWi$e is a 5-year\, $30 million national initiative (2023–2028) aimed at helping Australian grain growers navigate increasing levels of risk from weather variability and price volatility. By improving understanding of the risk-reward relationships in on-farm management decisions\, RiskWi$e supports growers in making informed\, confident choices that maximise rewards and minimise potential losses. \nJoin us at the RiskWi$e Roadshow to learn how to: \n\nMaximise rewards and minimise losses by understanding the risks behind key decisions on your farm.\nMake confident choices about farm business management and succession planning with insights tailored to real-world conditions.\nTurn uncertainty into opportunity by balancing the upside potential with the downside risks of every decision.
URL:https://www.bcg.org.au/event/riskwie-roadshow-succession-planning/
LOCATION:TBC\, Victoria|Victoria
CATEGORIES:Workshop
ATTACH;FMTTYPE=image/gif:https://www.bcg.org.au/wp-content/uploads/mfd-mr.gif
ORGANIZER;CN="Birchip Cropping Group":MAILTO:info@bcg.org.au
GEO:-35.9802544;142.9133936
END:VEVENT
END:VCALENDAR