BEGIN:VCALENDAR
VERSION:2.0
PRODID:-//Birchip Cropping Group - ECPv6.15.16//NONSGML v1.0//EN
CALSCALE:GREGORIAN
METHOD:PUBLISH
X-WR-CALNAME:Birchip Cropping Group
X-ORIGINAL-URL:https://www.bcg.org.au
X-WR-CALDESC:Events for Birchip Cropping Group
REFRESH-INTERVAL;VALUE=DURATION:PT1H
X-Robots-Tag:noindex
X-PUBLISHED-TTL:PT1H
BEGIN:VTIMEZONE
TZID:Australia/Sydney
BEGIN:STANDARD
TZOFFSETFROM:+1100
TZOFFSETTO:+1000
TZNAME:AEST
DTSTART:20240406T160000
END:STANDARD
BEGIN:DAYLIGHT
TZOFFSETFROM:+1000
TZOFFSETTO:+1100
TZNAME:AEDT
DTSTART:20241005T160000
END:DAYLIGHT
BEGIN:STANDARD
TZOFFSETFROM:+1100
TZOFFSETTO:+1000
TZNAME:AEST
DTSTART:20250405T160000
END:STANDARD
BEGIN:DAYLIGHT
TZOFFSETFROM:+1000
TZOFFSETTO:+1100
TZNAME:AEDT
DTSTART:20251004T160000
END:DAYLIGHT
BEGIN:STANDARD
TZOFFSETFROM:+1100
TZOFFSETTO:+1000
TZNAME:AEST
DTSTART:20260404T160000
END:STANDARD
BEGIN:DAYLIGHT
TZOFFSETFROM:+1000
TZOFFSETTO:+1100
TZNAME:AEDT
DTSTART:20261003T160000
END:DAYLIGHT
END:VTIMEZONE
BEGIN:VEVENT
DTSTART;TZID=Australia/Sydney:20250314T183000
DTEND;TZID=Australia/Sydney:20250314T230000
DTSTAMP:20260421T162412
CREATED:20250114T030703Z
LAST-MODIFIED:20250228T003512Z
UID:10000067-1741977000-1741993200@www.bcg.org.au
SUMMARY:Young Farmer Network Ball
DESCRIPTION:BCG are proud to present the 2025 Young Farmer Network Ball\, proudly supported by FRRR and the Australian Government’s Future Drought Fund! \nThe second annual formal event for the BCG Young Farmer Network follows a highly successful sold-out event in 2024. Get in quick\, this night is not one to be missed! \nFeaturing live music by ‘That Guy‘\, inspiring guest speakers\, great food and even better company\, the ball is a perfect opportunity to connect with the agricultural industry\, strengthen local networks and spark conversations about innovative ways to prepare for the future. This event celebrates the dedication and leadership within our agricultural community and encourages stronger social support and collaboration to build drought preparedness. \nWhether you’re coming solo or with friends\, join us for an evening of dancing\, laughter\, and meaningful connections! \n\nDate: Friday March 14\, 2025\nTime: 6:30pm- 11:00pm\nLocation: Spoons Riverside\, Swan Hill (125 Monash Dr\, Swan Hill VIC 3585)\nDress Code: Formal\nTickets: $80pp \n\nDress Code \nThe dress code is formal. \nEntertainment \nLive music throughout the evening will be provided by solo live musician ‘That Guy’ \nInspiring local leaders will share in a panel discussion. \nAttendance \nAnyone 18+ is invited to attend! This is an opportunity to bring our rural communities together\, so the ball is open to farmers and their friends\, partners\, family and employees\, as well as industry and community. \nPlease don’t be discouraged to attend if you don’t consider yourself ‘young’ or a ‘farmer’. Our Young Farmer Network events are targeted at the youngest active generation on farm (regardless of age)\, but are open to everyone from farmers\, students\, those involved in the agricultural industry and rural community members. \nAccommodation \nWe encourage you to book a room for the night so you can continue to enjoy the region the next day. There are several accommodation options surrounding the venue. \nMore from BCG \nBecome a member of the BCG Young Farmer Network today for exclusive events and the latest opportunities in agriculture delivered straight to your inbox. \n\n \nThis project was supported by the Australian Government’s Future Drought Fund.
URL:https://www.bcg.org.au/event/young-farmer-network-ball-2025/
LOCATION:Spoons Riverside\, Monash Drive 125\, Swan Hill\, Victoria\, 3585\, Australia
CATEGORIES:Young Farmer Network
ATTACH;FMTTYPE=image/jpeg:https://www.bcg.org.au/wp-content/uploads/YFN-Ball-Facebook-Event-Cover.jpg
ORGANIZER;CN="Birchip Cropping Group":MAILTO:info@bcg.org.au
GEO:-35.347632;143.5642976
X-APPLE-STRUCTURED-LOCATION;VALUE=URI;X-ADDRESS=Spoons Riverside Monash Drive 125 Swan Hill Victoria 3585 Australia;X-APPLE-RADIUS=500;X-TITLE=Monash Drive 125:geo:143.5642976,-35.347632
END:VEVENT
END:VCALENDAR