BEGIN:VCALENDAR
VERSION:2.0
PRODID:-//Birchip Cropping Group - ECPv6.15.16//NONSGML v1.0//EN
CALSCALE:GREGORIAN
METHOD:PUBLISH
X-ORIGINAL-URL:https://www.bcg.org.au
X-WR-CALDESC:Events for Birchip Cropping Group
REFRESH-INTERVAL;VALUE=DURATION:PT1H
X-Robots-Tag:noindex
X-PUBLISHED-TTL:PT1H
BEGIN:VTIMEZONE
TZID:Australia/Sydney
BEGIN:STANDARD
TZOFFSETFROM:+1100
TZOFFSETTO:+1000
TZNAME:AEST
DTSTART:20240406T160000
END:STANDARD
BEGIN:DAYLIGHT
TZOFFSETFROM:+1000
TZOFFSETTO:+1100
TZNAME:AEDT
DTSTART:20241005T160000
END:DAYLIGHT
BEGIN:STANDARD
TZOFFSETFROM:+1100
TZOFFSETTO:+1000
TZNAME:AEST
DTSTART:20250405T160000
END:STANDARD
BEGIN:DAYLIGHT
TZOFFSETFROM:+1000
TZOFFSETTO:+1100
TZNAME:AEDT
DTSTART:20251004T160000
END:DAYLIGHT
BEGIN:STANDARD
TZOFFSETFROM:+1100
TZOFFSETTO:+1000
TZNAME:AEST
DTSTART:20260404T160000
END:STANDARD
BEGIN:DAYLIGHT
TZOFFSETFROM:+1000
TZOFFSETTO:+1100
TZNAME:AEDT
DTSTART:20261003T160000
END:DAYLIGHT
END:VTIMEZONE
BEGIN:VEVENT
DTSTART;TZID=Australia/Sydney:20250318T090000
DTEND;TZID=Australia/Sydney:20250318T140000
DTSTAMP:20260421T162733
CREATED:20250206T225725Z
LAST-MODIFIED:20250313T233709Z
UID:10000068-1742288400-1742306400@www.bcg.org.au
SUMMARY:Farm Performance Workshop - GRDC RiskWi$e Roadshow
DESCRIPTION:Facilitated by Royce Pitchford (Pinion Advisory)\, this workshop will provide growers with the tools and knowledge to assess farm performance and improve financial literacy for better decision-making. \nThe session will incorporate a model farm representative of an average Southern Mallee farm business\, helping participants apply key concepts and compare performance metrics in a relatable\, hands-on way. \n\nRiskWi$e is a 5-year\, $30 million national initiative (2023–2028) aimed at helping Australian grain growers navigate increasing levels of risk from weather variability and price volatility. By improving understanding of the risk-reward relationships in on-farm management decisions\, RiskWi$e supports growers in making informed\, confident choices that maximise rewards and minimise potential losses. \nJoin us at the RiskWi$e Roadshow to learn how to: \n\nMaximise rewards and minimise losses by understanding the risks behind key decisions on your farm.\nMake confident choices about farm business management and succession planning with insights tailored to real-world conditions.\nTurn uncertainty into opportunity by balancing the upside potential with the downside risks of every decision.
URL:https://www.bcg.org.au/event/riskwie-roadshow-farm-performance/
LOCATION:Donald Recreation Reserve\, Borung Highway\, Donald\, Victoria\, 3480\, Australia
CATEGORIES:Workshop
ATTACH;FMTTYPE=image/jpeg:https://www.bcg.org.au/wp-content/uploads/harvest-calculator.jpg
ORGANIZER;CN="Birchip Cropping Group":MAILTO:info@bcg.org.au
GEO:-36.3163628;143.0002856
X-APPLE-STRUCTURED-LOCATION;VALUE=URI;X-ADDRESS=Donald Recreation Reserve Borung Highway Donald Victoria 3480 Australia;X-APPLE-RADIUS=500;X-TITLE=Borung Highway:geo:143.0002856,-36.3163628
END:VEVENT
END:VCALENDAR