BEGIN:VCALENDAR
VERSION:2.0
PRODID:-//Birchip Cropping Group - ECPv6.15.16//NONSGML v1.0//EN
CALSCALE:GREGORIAN
METHOD:PUBLISH
X-WR-CALNAME:Birchip Cropping Group
X-ORIGINAL-URL:https://www.bcg.org.au
X-WR-CALDESC:Events for Birchip Cropping Group
REFRESH-INTERVAL;VALUE=DURATION:PT1H
X-Robots-Tag:noindex
X-PUBLISHED-TTL:PT1H
BEGIN:VTIMEZONE
TZID:Australia/Sydney
BEGIN:STANDARD
TZOFFSETFROM:+1100
TZOFFSETTO:+1000
TZNAME:AEST
DTSTART:20240406T160000
END:STANDARD
BEGIN:DAYLIGHT
TZOFFSETFROM:+1000
TZOFFSETTO:+1100
TZNAME:AEDT
DTSTART:20241005T160000
END:DAYLIGHT
BEGIN:STANDARD
TZOFFSETFROM:+1100
TZOFFSETTO:+1000
TZNAME:AEST
DTSTART:20250405T160000
END:STANDARD
BEGIN:DAYLIGHT
TZOFFSETFROM:+1000
TZOFFSETTO:+1100
TZNAME:AEDT
DTSTART:20251004T160000
END:DAYLIGHT
BEGIN:STANDARD
TZOFFSETFROM:+1100
TZOFFSETTO:+1000
TZNAME:AEST
DTSTART:20260404T160000
END:STANDARD
BEGIN:DAYLIGHT
TZOFFSETFROM:+1000
TZOFFSETTO:+1100
TZNAME:AEDT
DTSTART:20261003T160000
END:DAYLIGHT
END:VTIMEZONE
BEGIN:VEVENT
DTSTART;TZID=Australia/Sydney:20250326T083000
DTEND;TZID=Australia/Sydney:20250326T153000
DTSTAMP:20260421T162414
CREATED:20250206T233825Z
LAST-MODIFIED:20250227T222002Z
UID:10000070-1742977800-1743003000@www.bcg.org.au
SUMMARY:Land Expansion & Machinery Investment - GRDC RiskWi$e Roadshow
DESCRIPTION:This is a two part workshop to help growers navigate key financial decisions related to farm expansion and machinery investment. Participants can attend either session or stay for the full day. \nFacilitated by Royce Pitchford (Pinion Advisory)\, this workshop will explore the pros and cons of leasing\, purchasing\, and share farming as strategies for business growth\, as well as considerations when investing in new machinery. \nThe Land Expansion session will run from 8:30am – 12:00pm. \nThe Machinery Investment session will run from 1:00pm – 3:30pm. \n\nRiskWi$e is a 5-year\, $30 million national initiative (2023–2028) aimed at helping Australian grain growers navigate increasing levels of risk from weather variability and price volatility. By improving understanding of the risk-reward relationships in on-farm management decisions\, RiskWi$e supports growers in making informed\, confident choices that maximise rewards and minimise potential losses. \nJoin us at the RiskWi$e Roadshow to learn how to: \n\nMaximise rewards and minimise losses by understanding the risks behind key decisions on your farm.\nMake confident choices about farm business management and succession planning with insights tailored to real-world conditions.\nTurn uncertainty into opportunity by balancing the upside potential with the downside risks of every decision.
URL:https://www.bcg.org.au/event/riskwie-roadshow-land-expansion-machinery-investment/
LOCATION:Sea Lake Community Complex\, 40 Complex Drive\, Sea Lake\, Victoria\, 3533\, Australia
CATEGORIES:Workshop
ATTACH;FMTTYPE=image/jpeg:https://www.bcg.org.au/wp-content/uploads/harvester-fire.jpg
ORGANIZER;CN="Birchip Cropping Group":MAILTO:info@bcg.org.au
GEO:-35.5088237;142.8550553
X-APPLE-STRUCTURED-LOCATION;VALUE=URI;X-ADDRESS=Sea Lake Community Complex 40 Complex Drive Sea Lake Victoria 3533 Australia;X-APPLE-RADIUS=500;X-TITLE=40 Complex Drive:geo:142.8550553,-35.5088237
END:VEVENT
END:VCALENDAR