BEGIN:VCALENDAR
VERSION:2.0
PRODID:-//Birchip Cropping Group - ECPv6.15.16//NONSGML v1.0//EN
CALSCALE:GREGORIAN
METHOD:PUBLISH
X-WR-CALNAME:Birchip Cropping Group
X-ORIGINAL-URL:https://www.bcg.org.au
X-WR-CALDESC:Events for Birchip Cropping Group
REFRESH-INTERVAL;VALUE=DURATION:PT1H
X-Robots-Tag:noindex
X-PUBLISHED-TTL:PT1H
BEGIN:VTIMEZONE
TZID:Australia/Sydney
BEGIN:STANDARD
TZOFFSETFROM:+1100
TZOFFSETTO:+1000
TZNAME:AEST
DTSTART:20240406T160000
END:STANDARD
BEGIN:DAYLIGHT
TZOFFSETFROM:+1000
TZOFFSETTO:+1100
TZNAME:AEDT
DTSTART:20241005T160000
END:DAYLIGHT
BEGIN:STANDARD
TZOFFSETFROM:+1100
TZOFFSETTO:+1000
TZNAME:AEST
DTSTART:20250405T160000
END:STANDARD
BEGIN:DAYLIGHT
TZOFFSETFROM:+1000
TZOFFSETTO:+1100
TZNAME:AEDT
DTSTART:20251004T160000
END:DAYLIGHT
BEGIN:STANDARD
TZOFFSETFROM:+1100
TZOFFSETTO:+1000
TZNAME:AEST
DTSTART:20260404T160000
END:STANDARD
BEGIN:DAYLIGHT
TZOFFSETFROM:+1000
TZOFFSETTO:+1100
TZNAME:AEDT
DTSTART:20261003T160000
END:DAYLIGHT
END:VTIMEZONE
BEGIN:VEVENT
DTSTART;TZID=Australia/Sydney:20250612T090000
DTEND;TZID=Australia/Sydney:20250612T110000
DTSTAMP:20260418T111137
CREATED:20250522T053040Z
LAST-MODIFIED:20250611T210639Z
UID:10000073-1749718800-1749726000@www.bcg.org.au
SUMMARY:Water Wise Workshop (Please Note: New Venue)
DESCRIPTION:New Venue:\nWoodstock Hall\n1240 Newbridge Rd\, Woodstock on Loddon\nInspect small farm small farm dams project site and learn about on farm water assessments and water planning with Adam Buzza\, Land Management Officer\, Agriculture Victoria\, Clem Sturmfels\, Land Management Officer\, Agriculture Victoria and Alison Frischke\, Project Manager Extension and Research\, Birchip Cropping Group.
URL:https://www.bcg.org.au/event/water-wise-workshop/
LOCATION:Woodstock Hall\, Woodstock Hall 1240 Newbridge Rd\, Woodstock on Loddon\, Vic\, Australia
CATEGORIES:Workshop
ATTACH;FMTTYPE=image/jpeg:https://www.bcg.org.au/wp-content/uploads/Small-Dam-workshop-flyer.jpg
ORGANIZER;CN="Birchip Cropping Group":MAILTO:info@bcg.org.au
GEO:-36.7852074;144.0521231
X-APPLE-STRUCTURED-LOCATION;VALUE=URI;X-ADDRESS=Woodstock Hall Woodstock Hall 1240 Newbridge Rd Woodstock on Loddon Vic Australia;X-APPLE-RADIUS=500;X-TITLE=Woodstock Hall 1240 Newbridge Rd:geo:144.0521231,-36.7852074
END:VEVENT
END:VCALENDAR