BEGIN:VCALENDAR
VERSION:2.0
PRODID:-//Birchip Cropping Group - ECPv6.15.16//NONSGML v1.0//EN
CALSCALE:GREGORIAN
METHOD:PUBLISH
X-WR-CALNAME:Birchip Cropping Group
X-ORIGINAL-URL:https://www.bcg.org.au
X-WR-CALDESC:Events for Birchip Cropping Group
REFRESH-INTERVAL;VALUE=DURATION:PT1H
X-Robots-Tag:noindex
X-PUBLISHED-TTL:PT1H
BEGIN:VTIMEZONE
TZID:Australia/Sydney
BEGIN:STANDARD
TZOFFSETFROM:+1100
TZOFFSETTO:+1000
TZNAME:AEST
DTSTART:20240406T160000
END:STANDARD
BEGIN:DAYLIGHT
TZOFFSETFROM:+1000
TZOFFSETTO:+1100
TZNAME:AEDT
DTSTART:20241005T160000
END:DAYLIGHT
BEGIN:STANDARD
TZOFFSETFROM:+1100
TZOFFSETTO:+1000
TZNAME:AEST
DTSTART:20250405T160000
END:STANDARD
BEGIN:DAYLIGHT
TZOFFSETFROM:+1000
TZOFFSETTO:+1100
TZNAME:AEDT
DTSTART:20251004T160000
END:DAYLIGHT
BEGIN:STANDARD
TZOFFSETFROM:+1100
TZOFFSETTO:+1000
TZNAME:AEST
DTSTART:20260404T160000
END:STANDARD
BEGIN:DAYLIGHT
TZOFFSETFROM:+1000
TZOFFSETTO:+1100
TZNAME:AEDT
DTSTART:20261003T160000
END:DAYLIGHT
END:VTIMEZONE
BEGIN:VEVENT
DTSTART;TZID=Australia/Sydney:20250626T090000
DTEND;TZID=Australia/Sydney:20250626T110000
DTSTAMP:20260419T211748
CREATED:20250605T052038Z
LAST-MODIFIED:20250619T013347Z
UID:10000076-1750928400-1750935600@www.bcg.org.au
SUMMARY:Kooloonong season & soil discussion
DESCRIPTION:Join us at Kooloonong for a season and soil discussion as part of our four-year paddock-scale stubble management project. \nWhen: Thursday 26 June\, 9:00am – 12:00pm \nWhere: Larkin Rd\, 4km south of Kooloonong \nThe discussion will cover: \n\nThe season so far\nOverview of local paddock constraints and management strategies implemented to increase production\nMallee seeps\, and incorporating sands and clays in-paddock\nSoil analysis\nLocal trials including:\n\nSandy soils with Michael Moodie\, Frontier Farming Systems\nHyperyielding cereals with Kenton Porker\, CSIRO\nVarieties and time of sowing with Nutrien Manangatang/Ouyen\n\n\nOther local projects such as Water Repellent Sands with Zoe Wilson\, BCG\n\nWe will be joined by local agronomist Michael Moodie (Frontier Farming Systems)\, senior soil scientist Mel Cann (Agriculture Victoria) and farming systems research agronomist Kenton Porker (CSIRO). Tea/coffee and a barbecue lunch will be provided. \nThis event is run as part of the MCMA DAFF funded soil project – Sus Ag Climate Smart Agriculture Program which was: Farmers are supported to drive agricultural growth\, while adopting sustainable NRM practices that protect soil. \n 
URL:https://www.bcg.org.au/event/kooloonong-season-soil-discussion/
LOCATION:Larkin Rd\, Kooloonong\, Kooloonong\, Victoria\, 3597
CATEGORIES:Crop Walks
ATTACH;FMTTYPE=image/jpeg:https://www.bcg.org.au/wp-content/uploads/Websize-Image-Template-3.jpg
ORGANIZER;CN="Birchip Cropping Group":MAILTO:info@bcg.org.au
GEO:-34.903176;143.140466
END:VEVENT
END:VCALENDAR