BEGIN:VCALENDAR
VERSION:2.0
PRODID:-//Birchip Cropping Group - ECPv6.15.16//NONSGML v1.0//EN
CALSCALE:GREGORIAN
METHOD:PUBLISH
X-ORIGINAL-URL:https://www.bcg.org.au
X-WR-CALDESC:Events for Birchip Cropping Group
REFRESH-INTERVAL;VALUE=DURATION:PT1H
X-Robots-Tag:noindex
X-PUBLISHED-TTL:PT1H
BEGIN:VTIMEZONE
TZID:Australia/Sydney
BEGIN:STANDARD
TZOFFSETFROM:+1100
TZOFFSETTO:+1000
TZNAME:AEST
DTSTART:20240406T160000
END:STANDARD
BEGIN:DAYLIGHT
TZOFFSETFROM:+1000
TZOFFSETTO:+1100
TZNAME:AEDT
DTSTART:20241005T160000
END:DAYLIGHT
BEGIN:STANDARD
TZOFFSETFROM:+1100
TZOFFSETTO:+1000
TZNAME:AEST
DTSTART:20250405T160000
END:STANDARD
BEGIN:DAYLIGHT
TZOFFSETFROM:+1000
TZOFFSETTO:+1100
TZNAME:AEDT
DTSTART:20251004T160000
END:DAYLIGHT
BEGIN:STANDARD
TZOFFSETFROM:+1100
TZOFFSETTO:+1000
TZNAME:AEST
DTSTART:20260404T160000
END:STANDARD
BEGIN:DAYLIGHT
TZOFFSETFROM:+1000
TZOFFSETTO:+1100
TZNAME:AEDT
DTSTART:20261003T160000
END:DAYLIGHT
END:VTIMEZONE
BEGIN:VEVENT
DTSTART;TZID=Australia/Sydney:20250825T180000
DTEND;TZID=Australia/Sydney:20250825T193000
DTSTAMP:20260421T075741
CREATED:20250814T003950Z
LAST-MODIFIED:20250825T014945Z
UID:10000084-1756144800-1756150200@www.bcg.org.au
SUMMARY:Postponed- Emissions Accounting- St Arnaud
DESCRIPTION:This event has been postponed. \nJoin us for a catch-up with guest speaker Kate Carmichael\, from Nutrien’s sustainability team. Kate will lead a relaxed discussion on understanding emissions at the farm level\, and explore how sustainability could open up future marketing opportunities with supply chain partners. \nFollowing the discussion\, there will be opportunity to enjoy a meal with friends and other growers. \nThis event is proudly brought to you as part of the BCG of the Young Farmer Network.
URL:https://www.bcg.org.au/event/young-farmer-network-emissions-accounting-st-arnaud/
LOCATION:Farmers Arms Hotel St Arnaud\, 18 Kings Avenue\, St Arnaud\, Vic\, 3478\, Australia
ATTACH;FMTTYPE=image/jpeg:https://www.bcg.org.au/wp-content/uploads/Mallee-CMA-crop-walk-1.jpg
ORGANIZER;CN="Birchip Cropping Group":MAILTO:info@bcg.org.au
GEO:-36.6199278;143.26276
X-APPLE-STRUCTURED-LOCATION;VALUE=URI;X-ADDRESS=Farmers Arms Hotel St Arnaud 18 Kings Avenue St Arnaud Vic 3478 Australia;X-APPLE-RADIUS=500;X-TITLE=18 Kings Avenue:geo:143.26276,-36.6199278
END:VEVENT
END:VCALENDAR