BEGIN:VCALENDAR
VERSION:2.0
PRODID:-//Birchip Cropping Group - ECPv6.15.16//NONSGML v1.0//EN
CALSCALE:GREGORIAN
METHOD:PUBLISH
X-ORIGINAL-URL:https://www.bcg.org.au
X-WR-CALDESC:Events for Birchip Cropping Group
REFRESH-INTERVAL;VALUE=DURATION:PT1H
X-Robots-Tag:noindex
X-PUBLISHED-TTL:PT1H
BEGIN:VTIMEZONE
TZID:Australia/Sydney
BEGIN:STANDARD
TZOFFSETFROM:+1100
TZOFFSETTO:+1000
TZNAME:AEST
DTSTART:20240406T160000
END:STANDARD
BEGIN:DAYLIGHT
TZOFFSETFROM:+1000
TZOFFSETTO:+1100
TZNAME:AEDT
DTSTART:20241005T160000
END:DAYLIGHT
BEGIN:STANDARD
TZOFFSETFROM:+1100
TZOFFSETTO:+1000
TZNAME:AEST
DTSTART:20250405T160000
END:STANDARD
BEGIN:DAYLIGHT
TZOFFSETFROM:+1000
TZOFFSETTO:+1100
TZNAME:AEDT
DTSTART:20251004T160000
END:DAYLIGHT
BEGIN:STANDARD
TZOFFSETFROM:+1100
TZOFFSETTO:+1000
TZNAME:AEST
DTSTART:20260404T160000
END:STANDARD
BEGIN:DAYLIGHT
TZOFFSETFROM:+1000
TZOFFSETTO:+1100
TZNAME:AEDT
DTSTART:20261003T160000
END:DAYLIGHT
END:VTIMEZONE
BEGIN:VEVENT
DTSTART;TZID=Australia/Sydney:20250826T090000
DTEND;TZID=Australia/Sydney:20250826T120000
DTSTAMP:20260421T075823
CREATED:20250807T041056Z
LAST-MODIFIED:20250815T060222Z
UID:10000081-1756198800-1756209600@www.bcg.org.au
SUMMARY:North Central Crop Walk
DESCRIPTION:Join us at Prairie and Mitiamo for a crop walk\, 9am – 12pm followed by a barbecue lunch. \nTopics include: \n\nVarieties and time of sowing: vetch\, lentils and oats\nMurray Dairy project\nPulse agronomy project\nEmissions accounting\n\nWe will start at Prairie (6.5km East of Prairie on the Prairie-Rochester Road) and travel to Mitiamo (5km West of Mitiamo on the Bendigo-Pyramid Road). \nClick here for a drop pin in Google Maps to the Prairie location \nClick here for a drop pin in Google Maps to the Mitiamo location
URL:https://www.bcg.org.au/event/north-central-crop-walk-2/
LOCATION:Prairie\, 6.5km East of Prairie on the Prairie-Rochester Road\, Prairie\, Victoria\, 3572\, Australia
CATEGORIES:Crop Walks
ATTACH;FMTTYPE=image/jpeg:https://www.bcg.org.au/wp-content/uploads/Northern-Mallee-Crop-Walk.jpg
ORGANIZER;CN="Birchip Cropping Group":MAILTO:info@bcg.org.au
GEO:-36.2997094;144.3054733
X-APPLE-STRUCTURED-LOCATION;VALUE=URI;X-ADDRESS=Prairie 6.5km East of Prairie on the Prairie-Rochester Road Prairie Victoria 3572 Australia;X-APPLE-RADIUS=500;X-TITLE=6.5km East of Prairie on the Prairie-Rochester Road:geo:144.3054733,-36.2997094
END:VEVENT
END:VCALENDAR