BEGIN:VCALENDAR
VERSION:2.0
PRODID:-//Birchip Cropping Group - ECPv6.15.16//NONSGML v1.0//EN
CALSCALE:GREGORIAN
METHOD:PUBLISH
X-WR-CALNAME:Birchip Cropping Group
X-ORIGINAL-URL:https://www.bcg.org.au
X-WR-CALDESC:Events for Birchip Cropping Group
REFRESH-INTERVAL;VALUE=DURATION:PT1H
X-Robots-Tag:noindex
X-PUBLISHED-TTL:PT1H
BEGIN:VTIMEZONE
TZID:Australia/Sydney
BEGIN:STANDARD
TZOFFSETFROM:+1100
TZOFFSETTO:+1000
TZNAME:AEST
DTSTART:20240406T160000
END:STANDARD
BEGIN:DAYLIGHT
TZOFFSETFROM:+1000
TZOFFSETTO:+1100
TZNAME:AEDT
DTSTART:20241005T160000
END:DAYLIGHT
BEGIN:STANDARD
TZOFFSETFROM:+1100
TZOFFSETTO:+1000
TZNAME:AEST
DTSTART:20250405T160000
END:STANDARD
BEGIN:DAYLIGHT
TZOFFSETFROM:+1000
TZOFFSETTO:+1100
TZNAME:AEDT
DTSTART:20251004T160000
END:DAYLIGHT
BEGIN:STANDARD
TZOFFSETFROM:+1100
TZOFFSETTO:+1000
TZNAME:AEST
DTSTART:20260404T160000
END:STANDARD
BEGIN:DAYLIGHT
TZOFFSETFROM:+1000
TZOFFSETTO:+1100
TZNAME:AEDT
DTSTART:20261003T160000
END:DAYLIGHT
END:VTIMEZONE
BEGIN:VEVENT
DTSTART;TZID=Australia/Sydney:20250923T090000
DTEND;TZID=Australia/Sydney:20250923T150000
DTSTAMP:20260421T062533
CREATED:20250708T021221Z
LAST-MODIFIED:20250725T013329Z
UID:10000078-1758618000-1758639600@www.bcg.org.au
SUMMARY:Harvester Set-up Workshop Horsham
DESCRIPTION:25HarvSetUpTemplateFlyerHorshamLocal growers\, farm employees\, advisors and industry are invited to join us for a free harvester workshop to share practices and hear from the experts on harvest loss reduction\, harvest weed seed control and prevention of harvester fires. \nThis workshop will provide attendees an opportunity to learn from others in their region about improving harvester capacity and efficiency\, reducing and measuring harvester losses\, integrating harvest weed seed control options\, productivity and economics\, reducing harvest fires and risks\, and on-farm grain storage. \nThis is a free event with catering provided on the day. \nThis project is funded by the Grains Research and Development Corporation. \n \n 
URL:https://www.bcg.org.au/event/harvester-setup-clinic/
LOCATION:Horsham\, 907 Obrees Road\, Vectis\, Victoria\, 3401
ATTACH;FMTTYPE=image/jpeg:https://www.bcg.org.au/wp-content/uploads/Copy-of-New-website-image-size-template-2.jpg
ORGANIZER;CN="Birchip Cropping Group":MAILTO:info@bcg.org.au
GEO:-36.6975063;142.0900203
X-APPLE-STRUCTURED-LOCATION;VALUE=URI;X-ADDRESS=Horsham 907 Obrees Road Vectis Victoria 3401;X-APPLE-RADIUS=500;X-TITLE=907 Obrees Road:geo:142.0900203,-36.6975063
END:VEVENT
END:VCALENDAR