BEGIN:VCALENDAR
VERSION:2.0
PRODID:-//Birchip Cropping Group - ECPv6.15.16//NONSGML v1.0//EN
CALSCALE:GREGORIAN
METHOD:PUBLISH
X-WR-CALNAME:Birchip Cropping Group
X-ORIGINAL-URL:https://www.bcg.org.au
X-WR-CALDESC:Events for Birchip Cropping Group
REFRESH-INTERVAL;VALUE=DURATION:PT1H
X-Robots-Tag:noindex
X-PUBLISHED-TTL:PT1H
BEGIN:VTIMEZONE
TZID:Australia/Sydney
BEGIN:STANDARD
TZOFFSETFROM:+1100
TZOFFSETTO:+1000
TZNAME:AEST
DTSTART:20240406T160000
END:STANDARD
BEGIN:DAYLIGHT
TZOFFSETFROM:+1000
TZOFFSETTO:+1100
TZNAME:AEDT
DTSTART:20241005T160000
END:DAYLIGHT
BEGIN:STANDARD
TZOFFSETFROM:+1100
TZOFFSETTO:+1000
TZNAME:AEST
DTSTART:20250405T160000
END:STANDARD
BEGIN:DAYLIGHT
TZOFFSETFROM:+1000
TZOFFSETTO:+1100
TZNAME:AEDT
DTSTART:20251004T160000
END:DAYLIGHT
BEGIN:STANDARD
TZOFFSETFROM:+1100
TZOFFSETTO:+1000
TZNAME:AEST
DTSTART:20260404T160000
END:STANDARD
BEGIN:DAYLIGHT
TZOFFSETFROM:+1000
TZOFFSETTO:+1100
TZNAME:AEDT
DTSTART:20261003T160000
END:DAYLIGHT
END:VTIMEZONE
BEGIN:VEVENT
DTSTART;VALUE=DATE:20251009
DTEND;VALUE=DATE:20251010
DTSTAMP:20260421T042415
CREATED:20250925T055446Z
LAST-MODIFIED:20251009T041826Z
UID:10000086-1759968000-1760054399@www.bcg.org.au
SUMMARY:Southern Mallee Spring Crop Drive
DESCRIPTION:Join us for a crop walk in the Kinnabulla/Curyo/Karyrie district for a spring research update! \nTopics include: \n\nAlternative nitrogen treatments\, urea products and associated carbon emissions\nFarming systems trials\nCover cropping\nSoil constraints\, stubbles and management strategies\n\nWhen: 9:00 am – 12:00 pm\, Thursday 9 October 2025 \nMeeting point: BCG office (73 Cumming Avenue\, Birchip VIC 3483) before heading out to the trial sites in convoy \nAgenda: \n \nSite locations: \nCuryo cover cropping trial: https://maps.app.goo.gl/9CdfHwNHfebQBaDk6 \nCuryo canola establishment paddock: https://maps.app.goo.gl/kqqGREWMK4MjD6Nq6 \nKinnabulla University of Adelaide farming systems trial: https://maps.app.goo.gl/yThjsbj5Q9B1fUce6 \nKinnabulla University of Melbourne farmlets trial: https://maps.app.goo.gl/cMAhWqBYXqrgYb576 \nKaryrie Enhanced Efficiency Nitrogen Fertilisers: https://maps.app.goo.gl/cthTXa3vskLeW3p27 \n  \nThis project was supported by the Australian Government’s Future Drought Fund. \nThis event is supported by the Australian Government through funding from the Natural Heritage Trust under the Climate-Smart Agriculture Program.
URL:https://www.bcg.org.au/event/spring-crop-walk/
LOCATION:BCG Office\, 73 Cumming Avenue\, Birchip\, VIC\, 3483
CATEGORIES:Crop Walks
ATTACH;FMTTYPE=image/jpeg:https://www.bcg.org.au/wp-content/uploads/Spring-crop-walk-image.jpg
ORGANIZER;CN="Birchip Cropping Group":MAILTO:info@bcg.org.au
GEO:-35.9815543;142.9169988
X-APPLE-STRUCTURED-LOCATION;VALUE=URI;X-ADDRESS=BCG Office 73 Cumming Avenue Birchip VIC 3483;X-APPLE-RADIUS=500;X-TITLE=73 Cumming Avenue:geo:142.9169988,-35.9815543
END:VEVENT
END:VCALENDAR