BEGIN:VCALENDAR
VERSION:2.0
PRODID:-//Birchip Cropping Group - ECPv6.15.16//NONSGML v1.0//EN
CALSCALE:GREGORIAN
METHOD:PUBLISH
X-WR-CALNAME:Birchip Cropping Group
X-ORIGINAL-URL:https://www.bcg.org.au
X-WR-CALDESC:Events for Birchip Cropping Group
REFRESH-INTERVAL;VALUE=DURATION:PT1H
X-Robots-Tag:noindex
X-PUBLISHED-TTL:PT1H
BEGIN:VTIMEZONE
TZID:Australia/Sydney
BEGIN:STANDARD
TZOFFSETFROM:+1100
TZOFFSETTO:+1000
TZNAME:AEST
DTSTART:20230401T160000
END:STANDARD
BEGIN:DAYLIGHT
TZOFFSETFROM:+1000
TZOFFSETTO:+1100
TZNAME:AEDT
DTSTART:20230930T160000
END:DAYLIGHT
BEGIN:STANDARD
TZOFFSETFROM:+1100
TZOFFSETTO:+1000
TZNAME:AEST
DTSTART:20240406T160000
END:STANDARD
BEGIN:DAYLIGHT
TZOFFSETFROM:+1000
TZOFFSETTO:+1100
TZNAME:AEDT
DTSTART:20241005T160000
END:DAYLIGHT
BEGIN:STANDARD
TZOFFSETFROM:+1100
TZOFFSETTO:+1000
TZNAME:AEST
DTSTART:20250405T160000
END:STANDARD
BEGIN:DAYLIGHT
TZOFFSETFROM:+1000
TZOFFSETTO:+1100
TZNAME:AEDT
DTSTART:20251004T160000
END:DAYLIGHT
END:VTIMEZONE
BEGIN:VEVENT
DTSTART;TZID=Australia/Sydney:20240702T093000
DTEND;TZID=Australia/Sydney:20240702T113000
DTSTAMP:20260422T025455
CREATED:20240612T005711Z
LAST-MODIFIED:20240619T230757Z
UID:10000047-1719912600-1719919800@www.bcg.org.au
SUMMARY:Farm Safety Walk
DESCRIPTION:Changes you can make to keep your farm and your people safe  \n📅 Tuesday July 2 \n🕓 9:30am-11:30am \n📌 https://maps.app.goo.gl/h4nDq4Bj3wME8ist9 \n🍞 BBQ lunch provided \n\nCome along to BCG’s Farm Safety Walk and gain motivation to implement safer practices on-farm with simple approaches to improving safety in the machinery shed\, chemical shed\, shearing shed and around silos. \nLearn how to establish basic policies and systems\, plus hear a local grower share insights on effective communication strategies for conversations around safety\, why their family prioritises safety on-farm\, how they have implemented safer farming practices and the benefits that follow as a result. \n\n   
URL:https://www.bcg.org.au/event/farm-safety-walk/
LOCATION:Brim\, Corner of Lah Angle Rd and Lah East Rd\, Lah\, VIC\, 3393\, Australia
ATTACH;FMTTYPE=image/jpeg:https://www.bcg.org.au/wp-content/uploads/WorkSafe-Farm-Safety-Day-Social-Media-post-1.jpg
ORGANIZER;CN="Birchip Cropping Group":MAILTO:info@bcg.org.au
GEO:-36.1290542;142.4270523
X-APPLE-STRUCTURED-LOCATION;VALUE=URI;X-ADDRESS=Brim Corner of Lah Angle Rd and Lah East Rd Lah VIC 3393 Australia;X-APPLE-RADIUS=500;X-TITLE=Corner of Lah Angle Rd and Lah East Rd:geo:142.4270523,-36.1290542
END:VEVENT
BEGIN:VEVENT
DTSTART;VALUE=DATE:20240723
DTEND;VALUE=DATE:20240726
DTSTAMP:20260422T025455
CREATED:20240515T000058Z
LAST-MODIFIED:20240620T225434Z
UID:10000040-1721692800-1721951999@www.bcg.org.au
SUMMARY:Innovation Generation Conference
DESCRIPTION:BCG are providing 10 FREE tickets to people in agriculture aged 18-35 to attend the Innovation Generation conference on the Gold Coast! \nOver two jam-packed days and three nights\, the 17th annual Innovation Generation conference is set to be one of the best yet. Attendees will hear from leading speakers across many interactive sessions and come away with new connections with other young growers and ag professionals. \nThe two day program will delve into a diversity of topics\, covering all things succession planning\, farm safety\, supply chains\, research and commodity markets\, ag tech\, digital transformation and innovation. This is a conference you don’t want to miss. \nRead the full program here and express interest below to join us on the sunny Gold Coast! \n\nPlease complete this form to apply for 1 of 10 free tickets (valued at $473) to the Innovation Generation conference on the Gold Coast. \nPLEASE NOTE: APPLICATIONS HAVE NOW CLOSED.
URL:https://www.bcg.org.au/event/innovation-generation-conference/
LOCATION:Crowne Plaza Surfer’s Paradise\, 2807 Gold Coast Hwy\, Surfers Paradise\, QLD\, 4217\, Australia
ATTACH;FMTTYPE=image/jpeg:https://www.bcg.org.au/wp-content/uploads/IG24.jpg
ORGANIZER;CN="Birchip Cropping Group":MAILTO:info@bcg.org.au
GEO:-28.0178214;153.4298943
X-APPLE-STRUCTURED-LOCATION;VALUE=URI;X-ADDRESS=Crowne Plaza Surfer’s Paradise 2807 Gold Coast Hwy Surfers Paradise QLD 4217 Australia;X-APPLE-RADIUS=500;X-TITLE=2807 Gold Coast Hwy:geo:153.4298943,-28.0178214
END:VEVENT
END:VCALENDAR