BEGIN:VCALENDAR
VERSION:2.0
PRODID:-//Birchip Cropping Group - ECPv6.15.16//NONSGML v1.0//EN
CALSCALE:GREGORIAN
METHOD:PUBLISH
X-WR-CALNAME:Birchip Cropping Group
X-ORIGINAL-URL:https://www.bcg.org.au
X-WR-CALDESC:Events for Birchip Cropping Group
REFRESH-INTERVAL;VALUE=DURATION:PT1H
X-Robots-Tag:noindex
X-PUBLISHED-TTL:PT1H
BEGIN:VTIMEZONE
TZID:Australia/Sydney
BEGIN:STANDARD
TZOFFSETFROM:+1100
TZOFFSETTO:+1000
TZNAME:AEST
DTSTART:20230401T160000
END:STANDARD
BEGIN:DAYLIGHT
TZOFFSETFROM:+1000
TZOFFSETTO:+1100
TZNAME:AEDT
DTSTART:20230930T160000
END:DAYLIGHT
BEGIN:STANDARD
TZOFFSETFROM:+1100
TZOFFSETTO:+1000
TZNAME:AEST
DTSTART:20240406T160000
END:STANDARD
BEGIN:DAYLIGHT
TZOFFSETFROM:+1000
TZOFFSETTO:+1100
TZNAME:AEDT
DTSTART:20241005T160000
END:DAYLIGHT
BEGIN:STANDARD
TZOFFSETFROM:+1100
TZOFFSETTO:+1000
TZNAME:AEST
DTSTART:20250405T160000
END:STANDARD
BEGIN:DAYLIGHT
TZOFFSETFROM:+1000
TZOFFSETTO:+1100
TZNAME:AEDT
DTSTART:20251004T160000
END:DAYLIGHT
END:VTIMEZONE
BEGIN:VEVENT
DTSTART;TZID=Australia/Sydney:20241008T170000
DTEND;TZID=Australia/Sydney:20241008T180000
DTSTAMP:20260421T221947
CREATED:20240930T022957Z
LAST-MODIFIED:20240930T041320Z
UID:10000059-1728406800-1728410400@www.bcg.org.au
SUMMARY:Pre-Harvest Grain Marketing Strategy Seminar: Ouyen
DESCRIPTION:Before you know it\, harvest will be upon us\, so this seminar is a great chance for you to catch up with an advisor and run through a comprehensive grain market update and current strategies! \nDate: Tuesday October 8\, 2024\nTime: 5pm\nLocation: Ouyen Golf Club\, 33 Cooper St Ouyen VIC \nThis Market Check seminar runs for approximately 1 hour\, and will incorporate: \n1. Valuable market analysis & insights\n2. Outlook for wheat\, barley\, canola\, and pulses\n3. 2024-25 strategy updates & considerations\n4. Education & networking \nTo register\, click this link: 2024 Pre-Harvest Seminar Registration (agrisk.com.au) \n \n\nFor any questions\, please contact Demi Taylor at BCG\, on demi.taylor@bcg.org.au or 0436 009 906.
URL:https://www.bcg.org.au/event/pre-harvest-grain-marketing-strategy-seminar-ouyen/
LOCATION:Ouyen Golf Club\, Cooper Street\, Ouyen\, VIC\, 3490\, Australia
CATEGORIES:Young Farmer Network
ATTACH;FMTTYPE=image/jpeg:https://www.bcg.org.au/wp-content/uploads/Websize-Image-Template-3.jpg
GEO:-35.0671203;142.3097862
X-APPLE-STRUCTURED-LOCATION;VALUE=URI;X-ADDRESS=Ouyen Golf Club Cooper Street Ouyen VIC 3490 Australia;X-APPLE-RADIUS=500;X-TITLE=Cooper Street:geo:142.3097862,-35.0671203
END:VEVENT
BEGIN:VEVENT
DTSTART;TZID=Australia/Sydney:20241009T170000
DTEND;TZID=Australia/Sydney:20241009T180000
DTSTAMP:20260421T221947
CREATED:20240930T022743Z
LAST-MODIFIED:20240930T041220Z
UID:10000060-1728493200-1728496800@www.bcg.org.au
SUMMARY:Pre-Harvest Grain Marketing Strategy Seminar: Tooleybuc
DESCRIPTION:Before you know it\, harvest will be upon us\, so this seminar is a great chance for you to catch up with an advisor and run through a comprehensive grain market update and current strategies! \nDate: Wednesday October 9\, 2024\nTime: 5pm\nLocation: Tooleybuc Sporting Club\, LOT 1 Lockhart Rd\, Tooleybuc NSW 2736 \nThis Market Check seminar runs for approximately 1 hour\, and will incorporate: \n1. Valuable market analysis & insights\n2. Outlook for wheat\, barley\, canola\, and pulses\n3. 2024-25 strategy updates & considerations\n4. Education & networking \nTo register\, click this link: 2024 Pre-Harvest Seminar Registration (agrisk.com.au) \n \n  \n\nFor any questions\, please contact Demi Taylor at BCG\, on demi.taylor@bcg.org.au or 0436 009 906.
URL:https://www.bcg.org.au/event/pre-harvest-grain-marketing-strategy-seminar-tooleybuc/
LOCATION:Tooleybuc Sporting Club\, Lockhart Road\, Tooleybuc\, NSW\, 2736\, Australia
CATEGORIES:Young Farmer Network
ATTACH;FMTTYPE=image/jpeg:https://www.bcg.org.au/wp-content/uploads/Websize-Image-Template-3.jpg
ORGANIZER;CN="Birchip Cropping Group":MAILTO:info@bcg.org.au
GEO:-34.9970297;143.3323165
X-APPLE-STRUCTURED-LOCATION;VALUE=URI;X-ADDRESS=Tooleybuc Sporting Club Lockhart Road Tooleybuc NSW 2736 Australia;X-APPLE-RADIUS=500;X-TITLE=Lockhart Road:geo:143.3323165,-34.9970297
END:VEVENT
BEGIN:VEVENT
DTSTART;TZID=Australia/Sydney:20241010T083000
DTEND;TZID=Australia/Sydney:20241010T100000
DTSTAMP:20260421T221947
CREATED:20240930T022211Z
LAST-MODIFIED:20240930T040625Z
UID:10000058-1728549000-1728554400@www.bcg.org.au
SUMMARY:Pre-Harvest Grain Marketing Strategy Seminar: Birchip
DESCRIPTION:Before you know it\, harvest will be upon us\, so this seminar is a great chance for you to catch up with an advisor and run through a comprehensive grain market update and current strategies! \nDate: Thursday October 10\, 2024\nTime: 8:30am\nLocation: Birchip Cropping Group\, 73 Cumming Avenue Birchip \nThis Market Check seminar runs for approximately 1 hour\, and will incorporate: \n1. Valuable market analysis & insights\n2. Outlook for wheat\, barley\, canola\, and pulses\n3. 2024-25 strategy updates & considerations\n4. Education & networking \nTo register\, click this link: 2024 Pre-Harvest Seminar Registration (agrisk.com.au) \n \n\nFor any questions\, please contact Demi Taylor at BCG\, on demi.taylor@bcg.org.au or 0436 009 906.
URL:https://www.bcg.org.au/event/pre-harvest-grain-marketing-strategy-seminar-birchip/
LOCATION:Birchip Cropping Group\, Cumming Avenue\, Birchip\, VIC\, 3483\, Australia
CATEGORIES:Young Farmer Network
ATTACH;FMTTYPE=image/jpeg:https://www.bcg.org.au/wp-content/uploads/Websize-Image-Template-3.jpg
ORGANIZER;CN="Birchip Cropping Group":MAILTO:info@bcg.org.au
GEO:-35.9815582;142.9170429
X-APPLE-STRUCTURED-LOCATION;VALUE=URI;X-ADDRESS=Birchip Cropping Group Cumming Avenue Birchip VIC 3483 Australia;X-APPLE-RADIUS=500;X-TITLE=Cumming Avenue:geo:142.9170429,-35.9815582
END:VEVENT
BEGIN:VEVENT
DTSTART;TZID=Australia/Sydney:20241010T090000
DTEND;TZID=Australia/Sydney:20241010T120000
DTSTAMP:20260421T221947
CREATED:20240821T012354Z
LAST-MODIFIED:20240930T045132Z
UID:10000055-1728550800-1728561600@www.bcg.org.au
SUMMARY:Southern Mallee Crop Walk
DESCRIPTION:Location: Darts Rd\, Woomelang (between Henty Hwy & Hopetoun-Sea Lake Rd).\nDate: Thursday 10 October\, 2024\nTime: 9:00am- 12:00pm (provided lunch to follow) \nJoin BCG and Agriculture Victoria for this free event to learn more about: \n\nLentil\, Chickpea\, Field Pea and Faba Bean varieties and agronomy\nDisease management options- improved resistance\, fungicides and agronomy\nPulse breeding and new herbicide tolerance traits\nDemos around nutrition and herbicides\n\nRegistrations essential. \n \nContact Demi Taylor on 0436 009 906 with any queries.
URL:https://www.bcg.org.au/event/southern-mallee-crop-walk/
LOCATION:Darts Rd\, Woomelang\, Darts Road\, Woomelang\, VIC\, 3485\, Australia
ATTACH;FMTTYPE=image/jpeg:https://www.bcg.org.au/wp-content/uploads/Websize-Image-Template-1-2.jpg
ORGANIZER;CN="Birchip Cropping Group":MAILTO:info@bcg.org.au
GEO:-35.6706018;142.5286795
X-APPLE-STRUCTURED-LOCATION;VALUE=URI;X-ADDRESS=Darts Rd Woomelang Darts Road Woomelang VIC 3485 Australia;X-APPLE-RADIUS=500;X-TITLE=Darts Road:geo:142.5286795,-35.6706018
END:VEVENT
BEGIN:VEVENT
DTSTART;TZID=Australia/Sydney:20241010T170000
DTEND;TZID=Australia/Sydney:20241010T180000
DTSTAMP:20260421T221947
CREATED:20240930T022153Z
LAST-MODIFIED:20240930T041416Z
UID:10000061-1728579600-1728583200@www.bcg.org.au
SUMMARY:Pre-Harvest Grain Marketing Strategy Seminar: Horsham
DESCRIPTION:Before you know it\, harvest will be upon us\, so this seminar is a great chance for you to catch up with an advisor and run through a comprehensive grain market update and current strategies! \nDate: Thursday October 10\, 2024\nTime: 5pm\nLocation: Horsham RSL Club\, 36 McLachlan St\, Horsham VIC 3400 \nThis Market Check seminar runs for approximately 1 hour\, and will incorporate: \n1. Valuable market analysis & insights\n2. Outlook for wheat\, barley\, canola\, and pulses\n3. 2024-25 strategy updates & considerations\n4. Education & networking \nTo register\, click this link: 2024 Pre-Harvest Seminar Registration (agrisk.com.au) \n \n\nFor any questions\, please contact Demi Taylor at BCG\, on demi.taylor@bcg.org.au or 0436 009 906.
URL:https://www.bcg.org.au/event/pre-harvest-grain-marketing-strategy-seminar-horsham/
LOCATION:Horsham RSL Club\, McLachlan Street\, Horsham\, VIC\, 3400\, Australia
CATEGORIES:Young Farmer Network
ATTACH;FMTTYPE=image/jpeg:https://www.bcg.org.au/wp-content/uploads/Websize-Image-Template-3.jpg
ORGANIZER;CN="Birchip Cropping Group":MAILTO:info@bcg.org.au
GEO:-36.7129001;142.2004882
X-APPLE-STRUCTURED-LOCATION;VALUE=URI;X-ADDRESS=Horsham RSL Club McLachlan Street Horsham VIC 3400 Australia;X-APPLE-RADIUS=500;X-TITLE=McLachlan Street:geo:142.2004882,-36.7129001
END:VEVENT
BEGIN:VEVENT
DTSTART;TZID=Australia/Sydney:20241011T173000
DTEND;TZID=Australia/Sydney:20241011T193000
DTSTAMP:20260421T221947
CREATED:20240930T044853Z
LAST-MODIFIED:20250311T012715Z
UID:10000062-1728667800-1728675000@www.bcg.org.au
SUMMARY:Kinnabulla Twilight Crop Walk
DESCRIPTION:Come along and discover the rotations and farming systems implemented at the University of Melbourne and University of Adelaide Farming Systems trials at Kinnabulla.  \nIn this crop walk\, we will explore farming system performance and how management decisions effect profitability and productivity. \nMeet at the corner of Kinnabulla West Rd and Wilkur-Watchupga Rd \nFriday 11 October\, 5:30 – 7:00pm followed by dinner and drinks at the Curyo fire shed \n \nThis project was supported by the Australian Government’s Future Drought Fund.
URL:https://www.bcg.org.au/event/kinnabulla-twilight-crop-walk/
LOCATION:Corner of Kinnabulla West Rd and Wilkur-Watchupga Rd\, Australia
CATEGORIES:Crop Walks
ATTACH;FMTTYPE=image/jpeg:https://www.bcg.org.au/wp-content/uploads/Northern-Mallee-Crop-Walk.jpg
ORGANIZER;CN="Birchip Cropping Group":MAILTO:info@bcg.org.au
GEO:-35.898556;142.703139
END:VEVENT
BEGIN:VEVENT
DTSTART;TZID=Australia/Sydney:20241015T090000
DTEND;TZID=Australia/Sydney:20241015T140000
DTSTAMP:20260421T221947
CREATED:20240906T000606Z
LAST-MODIFIED:20241004T020803Z
UID:10000056-1728982800-1729000800@www.bcg.org.au
SUMMARY:Pre-Harvest Day
DESCRIPTION:Are your staff harvest ready? \nFarmers\, employees\, machinery operators and farming families are invited to BCG x WorkSafe’s Pre-Harvest Day. \nHosted by Warakirri Cropping at their Baingarra site\, you’ll leave the event with tips and tricks to ensure a safe and efficient harvest season for your team. \nJoin industry experts and local farmers for demonstrations and discussions surrounding: \n\nKeeping your team safe– Tarnya Dalla\, Brendan Baker & Richard Ballard\, WorkSafe\nInductions\, HR\, people & fatigue management– Jono & Alicia Robinson\, Warakirri Cropping \nHarvester and front basics and machinery maintenance– Jono Robinson\, Warakirri & Brendan Baker\, WorkSafe\nChaser bin\, augers and PTO’s– Pat Anderson\, Warakirri Cropping & Richard Ballard\, WorkSafe\nTruck and heavy vehicle requirements\, roadworthiness and traffic management– John Gilbert & Katherine Garner\, NHVR\nGrain storage and safety over the harvest period and beyond- Chris Warrick\, Primary Business\nFire preparedness and response + basic first aid– Dennis Thomas\, CFA\nSafety around overhead powerlines– Rob Oldfield\, Energy Safe Vic\n\nMorning tea and lunch will be provided on the day + games and giveaways to celebrate Health and Safety month. \n\nLocation: 683 Borung Highway\, Carron\, Victoria\, 3480 \nRegistrations essential. \nCatering provided; please advise of any dietary requirements when selecting a ticket. \nPlease contact Demi Taylor at demi.taylor@bcg.org.au or 0436 009 906 with any further questions.
URL:https://www.bcg.org.au/event/bcg-pre-harvest-safety-day/
LOCATION:683 Borung Highway\, Carron\, Victoria 3480\, Borung Highway\, Carron\, VIC\, 3480\, Australia
ATTACH;FMTTYPE=image/jpeg:https://www.bcg.org.au/wp-content/uploads/Pre-Harvest-Day-1.jpg
ORGANIZER;CN="Birchip Cropping Group":MAILTO:info@bcg.org.au
GEO:-36.2865825;142.7722879
X-APPLE-STRUCTURED-LOCATION;VALUE=URI;X-ADDRESS=683 Borung Highway Carron Victoria 3480 Borung Highway Carron VIC 3480 Australia;X-APPLE-RADIUS=500;X-TITLE=Borung Highway:geo:142.7722879,-36.2865825
END:VEVENT
BEGIN:VEVENT
DTSTART;TZID=Australia/Sydney:20241017T080000
DTEND;TZID=Australia/Sydney:20241017T100000
DTSTAMP:20260421T221947
CREATED:20240814T060328Z
LAST-MODIFIED:20241001T024841Z
UID:10000054-1729152000-1729159200@www.bcg.org.au
SUMMARY:BCG Chair's Breakfast
DESCRIPTION:Starting at 8am\, this event offers attendees the opportunity to hear an inspiring guest speaker\, enjoy breakfast and meet with friends and colleagues before work. \nWe’re delighted to welcome Richard Eckard\, Professor of Carbon Farming at the University of Melbourne as our guest speaker for the event. His research focuses on carbon farming and accounting towards carbon neutral agriculture and options for agriculture to respond to a changing climate. \nThe morning’s discussion will highlight the role of carbon in the grains industry. Attendees are encouraged to network and ask questions throughout the event. \nThe event is free. Online registration is essential. Visit www.bcg.org.au/events today to secure your place or call the BCG office on (03) 5492 2787. \nbcg-chairs-breakfast-2024\n  \nBCG is collaborating with Grower Group Alliance for the delivery of the National Industry-led Carbon Farming Outreach Program. Delivered with funding support from the Commonwealth of Australia through the Department of Climate Change\, Energy\, the Environment and Water under the Carbon Farming Outreach Program. 
URL:https://www.bcg.org.au/event/bcg-chairs-breakfast-2024/
LOCATION:BCG Office\, 73 Cumming Avenue\, Birchip\, VIC\, 3483
ATTACH;FMTTYPE=image/jpeg:https://www.bcg.org.au/wp-content/uploads/chairs-breakfast.jpg
ORGANIZER;CN="Birchip Cropping Group":MAILTO:info@bcg.org.au
GEO:-35.9815543;142.9169988
X-APPLE-STRUCTURED-LOCATION;VALUE=URI;X-ADDRESS=BCG Office 73 Cumming Avenue Birchip VIC 3483;X-APPLE-RADIUS=500;X-TITLE=73 Cumming Avenue:geo:142.9169988,-35.9815543
END:VEVENT
BEGIN:VEVENT
DTSTART;TZID=Australia/Sydney:20241024T120000
DTEND;TZID=Australia/Sydney:20241024T130000
DTSTAMP:20260421T221947
CREATED:20241015T232841Z
LAST-MODIFIED:20241021T034423Z
UID:10000064-1729771200-1729774800@www.bcg.org.au
SUMMARY:BCG Webinar: Mindset and Money Matters
DESCRIPTION:Join BCG’s Louisa Ferrier and ThinkAgri’s Dr Kate Burke for the ‘Mindset and Money Matters when faced with late season shocks‘ webinar. \nWe’ll discuss some strategies to: \n\nAssess yield potential\, crop status and projected income\nAssist in developing your harvest strategy\n\nThursday October 24\, 2024\, 12-1pm AEDT. \nPlease have a pen and paper ready for the session’s activities. \nRegister here: https://events.teams.microsoft.com/event/8f043291-4b82-40ee-b73c-474b53cfa2f6@375a4f9a-b373-4df9-9fc5-9d9319c9f43e
URL:https://www.bcg.org.au/event/mindset-and-money-matters-webinar/
LOCATION:Victoria
ATTACH;FMTTYPE=image/jpeg:https://www.bcg.org.au/wp-content/uploads/Websize-Image-Template-2-6.jpg
ORGANIZER;CN="Birchip Cropping Group":MAILTO:info@bcg.org.au
END:VEVENT
END:VCALENDAR